BEGIN:VCALENDAR
VERSION:2.0
PRODID:-//Cambridge Christian Students - ECPv6.2.2//NONSGML v1.0//EN
CALSCALE:GREGORIAN
METHOD:PUBLISH
X-WR-CALNAME:Cambridge Christian Students
X-ORIGINAL-URL:https://cambridge.christianstudents.org.uk
X-WR-CALDESC:Events for Cambridge Christian Students
REFRESH-INTERVAL;VALUE=DURATION:PT1H
X-Robots-Tag:noindex
X-PUBLISHED-TTL:PT1H
BEGIN:VTIMEZONE
TZID:Europe/London
BEGIN:DAYLIGHT
TZOFFSETFROM:+0000
TZOFFSETTO:+0100
TZNAME:BST
DTSTART:20170326T010000
END:DAYLIGHT
BEGIN:STANDARD
TZOFFSETFROM:+0100
TZOFFSETTO:+0000
TZNAME:GMT
DTSTART:20171029T010000
END:STANDARD
END:VTIMEZONE
BEGIN:VEVENT
DTSTART;TZID=Europe/London:20171103T183000
DTEND;TZID=Europe/London:20171103T213000
DTSTAMP:20260420T121329
CREATED:20171030T232655Z
LAST-MODIFIED:20171030T232655Z
UID:240-1509733800-1509744600@cambridge.christianstudents.org.uk
SUMMARY:Friday dinner and Bible study in a nearby home
DESCRIPTION:The Bible study this Friday will not be at Robinson J8\, due to many of us being at the conference. Instead\, it will be in a nearby Christian home! Contact 07535 991 660 for the address and directions.
URL:https://cambridge.christianstudents.org.uk/event/friday-dinner-and-bible-study-in-a-nearby-home-2/
LOCATION:Nearby home\, Cambridge\, United Kingdom
CATEGORIES:Friday Bible Study
END:VEVENT
BEGIN:VEVENT
DTSTART;TZID=Europe/London:20171027T183000
DTEND;TZID=Europe/London:20171027T210000
DTSTAMP:20260420T121329
CREATED:20171011T161812Z
LAST-MODIFIED:20171011T161812Z
UID:214-1509129000-1509138000@cambridge.christianstudents.org.uk
SUMMARY:Friday dinner and Bible study
DESCRIPTION:
URL:https://cambridge.christianstudents.org.uk/event/friday-dinner-and-bible-study-3/
LOCATION:Robinson College\, Room J8\, Grange Road\, Cambridge\, CB3 9AN\, United Kingdom
CATEGORIES:Friday Bible Study
END:VEVENT
BEGIN:VEVENT
DTSTART;TZID=Europe/London:20171020T183000
DTEND;TZID=Europe/London:20171020T210000
DTSTAMP:20260420T121329
CREATED:20171011T161622Z
LAST-MODIFIED:20171011T161622Z
UID:211-1508524200-1508533200@cambridge.christianstudents.org.uk
SUMMARY:Friday dinner and Bible study
DESCRIPTION:
URL:https://cambridge.christianstudents.org.uk/event/friday-dinner-and-bible-study-2/
LOCATION:Robinson College\, Room J8\, Grange Road\, Cambridge\, CB3 9AN\, United Kingdom
CATEGORIES:Friday Bible Study
END:VEVENT
BEGIN:VEVENT
DTSTART;TZID=Europe/London:20171013T183000
DTEND;TZID=Europe/London:20171013T210000
DTSTAMP:20260420T121329
CREATED:20171011T161511Z
LAST-MODIFIED:20171011T161511Z
UID:209-1507919400-1507928400@cambridge.christianstudents.org.uk
SUMMARY:Friday dinner and Bible study: Philippians 1
DESCRIPTION:
URL:https://cambridge.christianstudents.org.uk/event/friday-dinner-and-bible-study-philippians-1-2/
LOCATION:Robinson College\, Room J8\, Grange Road\, Cambridge\, CB3 9AN\, United Kingdom
CATEGORIES:Friday Bible Study
END:VEVENT
BEGIN:VEVENT
DTSTART;TZID=Europe/London:20171006T183000
DTEND;TZID=Europe/London:20171006T203000
DTSTAMP:20260420T121329
CREATED:20171002T235202Z
LAST-MODIFIED:20171002T235202Z
UID:189-1507314600-1507321800@cambridge.christianstudents.org.uk
SUMMARY:Friday dinner and Bible study: Philippians 1
DESCRIPTION:
URL:https://cambridge.christianstudents.org.uk/event/friday-dinner-and-bible-study-philippians-1/
LOCATION:Robinson College\, Room J8\, Grange Road\, Cambridge\, CB3 9AN\, United Kingdom
CATEGORIES:Cambridge Freshers Week,Friday Bible Study
END:VEVENT
BEGIN:VEVENT
DTSTART;TZID=Europe/London:20170929T183000
DTEND;TZID=Europe/London:20170929T213000
DTSTAMP:20260420T121329
CREATED:20171002T235023Z
LAST-MODIFIED:20171002T235023Z
UID:186-1506709800-1506720600@cambridge.christianstudents.org.uk
SUMMARY:Friday dinner and Bible study in a nearby home
DESCRIPTION:
URL:https://cambridge.christianstudents.org.uk/event/friday-dinner-and-bible-study-in-a-nearby-home/
LOCATION:Nearby home\, Cambridge\, United Kingdom
CATEGORIES:Friday Bible Study
END:VEVENT
BEGIN:VEVENT
DTSTART;TZID=Europe/London:20170915T183000
DTEND;TZID=Europe/London:20170915T213000
DTSTAMP:20260420T121329
CREATED:20170915T164809Z
LAST-MODIFIED:20171002T234842Z
UID:97-1505500200-1505511000@cambridge.christianstudents.org.uk
SUMMARY:Friday dinner and Bible study in a nearby home
DESCRIPTION:
URL:https://cambridge.christianstudents.org.uk/event/friday-dinner-and-bible-study/
LOCATION:Nearby home\, Cambridge\, United Kingdom
CATEGORIES:Friday Bible Study
END:VEVENT
END:VCALENDAR