BEGIN:VCALENDAR
VERSION:2.0
PRODID:-//Cambridge Christian Students - ECPv6.2.2//NONSGML v1.0//EN
CALSCALE:GREGORIAN
METHOD:PUBLISH
X-WR-CALNAME:Cambridge Christian Students
X-ORIGINAL-URL:https://cambridge.christianstudents.org.uk
X-WR-CALDESC:Events for Cambridge Christian Students
REFRESH-INTERVAL;VALUE=DURATION:PT1H
X-Robots-Tag:noindex
X-PUBLISHED-TTL:PT1H
BEGIN:VTIMEZONE
TZID:Europe/London
BEGIN:DAYLIGHT
TZOFFSETFROM:+0000
TZOFFSETTO:+0100
TZNAME:BST
DTSTART:20170326T010000
END:DAYLIGHT
BEGIN:STANDARD
TZOFFSETFROM:+0100
TZOFFSETTO:+0000
TZNAME:GMT
DTSTART:20171029T010000
END:STANDARD
END:VTIMEZONE
BEGIN:VEVENT
DTSTART;TZID=Europe/London:20171103T183000
DTEND;TZID=Europe/London:20171103T213000
DTSTAMP:20260422T130025
CREATED:20171030T232655Z
LAST-MODIFIED:20171030T232655Z
UID:240-1509733800-1509744600@cambridge.christianstudents.org.uk
SUMMARY:Friday dinner and Bible study in a nearby home
DESCRIPTION:The Bible study this Friday will not be at Robinson J8\, due to many of us being at the conference. Instead\, it will be in a nearby Christian home! Contact 07535 991 660 for the address and directions.
URL:https://cambridge.christianstudents.org.uk/event/friday-dinner-and-bible-study-in-a-nearby-home-2/
LOCATION:Nearby home\, Cambridge\, United Kingdom
CATEGORIES:Friday Bible Study
END:VEVENT
BEGIN:VEVENT
DTSTART;TZID=Europe/London:20171103T130000
DTEND;TZID=Europe/London:20171105T170000
DTSTAMP:20260422T130025
CREATED:20171011T162324Z
LAST-MODIFIED:20171022T234601Z
UID:216-1509714000-1509901200@cambridge.christianstudents.org.uk
SUMMARY:Christian Students Conference\, Shropshire 2017
DESCRIPTION:For more information\, see\nJoin us for the University Conference in Shropshire\, 2017!
URL:https://cambridge.christianstudents.org.uk/event/christian-students-conference/
LOCATION:Quinta Hall\, Weston Rhyn\, Owestry\, Shropshire\, SY10 7LR\, United Kingdom
CATEGORIES:Conference
END:VEVENT
BEGIN:VEVENT
DTSTART;TZID=Europe/London:20171031T170000
DTEND;TZID=Europe/London:20171031T180000
DTSTAMP:20260422T130025
CREATED:20171011T161255Z
LAST-MODIFIED:20171011T161255Z
UID:207-1509469200-1509472800@cambridge.christianstudents.org.uk
SUMMARY:Tuesday Bible Study
DESCRIPTION:
URL:https://cambridge.christianstudents.org.uk/event/tuesday-bible-study-6/
LOCATION:ARU Coslett 107
CATEGORIES:Tuesday Bible Study
END:VEVENT
BEGIN:VEVENT
DTSTART;TZID=Europe/London:20171027T183000
DTEND;TZID=Europe/London:20171027T210000
DTSTAMP:20260422T130025
CREATED:20171011T161812Z
LAST-MODIFIED:20171011T161812Z
UID:214-1509129000-1509138000@cambridge.christianstudents.org.uk
SUMMARY:Friday dinner and Bible study
DESCRIPTION:
URL:https://cambridge.christianstudents.org.uk/event/friday-dinner-and-bible-study-3/
LOCATION:Robinson College\, Room J8\, Grange Road\, Cambridge\, CB3 9AN\, United Kingdom
CATEGORIES:Friday Bible Study
END:VEVENT
BEGIN:VEVENT
DTSTART;TZID=Europe/London:20171024T170000
DTEND;TZID=Europe/London:20171024T180000
DTSTAMP:20260422T130025
CREATED:20171011T161136Z
LAST-MODIFIED:20171011T161136Z
UID:205-1508864400-1508868000@cambridge.christianstudents.org.uk
SUMMARY:Tuesday Bible Study
DESCRIPTION:
URL:https://cambridge.christianstudents.org.uk/event/tuesday-bible-study-5/
LOCATION:ARU Coslett 107
CATEGORIES:Tuesday Bible Study
END:VEVENT
BEGIN:VEVENT
DTSTART;TZID=Europe/London:20171020T183000
DTEND;TZID=Europe/London:20171020T210000
DTSTAMP:20260422T130025
CREATED:20171011T161622Z
LAST-MODIFIED:20171011T161622Z
UID:211-1508524200-1508533200@cambridge.christianstudents.org.uk
SUMMARY:Friday dinner and Bible study
DESCRIPTION:
URL:https://cambridge.christianstudents.org.uk/event/friday-dinner-and-bible-study-2/
LOCATION:Robinson College\, Room J8\, Grange Road\, Cambridge\, CB3 9AN\, United Kingdom
CATEGORIES:Friday Bible Study
END:VEVENT
BEGIN:VEVENT
DTSTART;TZID=Europe/London:20171017T170000
DTEND;TZID=Europe/London:20171017T180000
DTSTAMP:20260422T130025
CREATED:20171011T161018Z
LAST-MODIFIED:20171011T161018Z
UID:203-1508259600-1508263200@cambridge.christianstudents.org.uk
SUMMARY:Tuesday Bible Study
DESCRIPTION:
URL:https://cambridge.christianstudents.org.uk/event/tuesday-bible-study-4/
LOCATION:ARU Coslett 107
CATEGORIES:Tuesday Bible Study
END:VEVENT
BEGIN:VEVENT
DTSTART;TZID=Europe/London:20171014T103000
DTEND;TZID=Europe/London:20171015T130000
DTSTAMP:20260422T130025
CREATED:20171002T235634Z
LAST-MODIFIED:20171002T235810Z
UID:194-1507977000-1508072400@cambridge.christianstudents.org.uk
SUMMARY:British Isles Christian Conference
DESCRIPTION:
URL:https://cambridge.christianstudents.org.uk/event/british-isles-christian-conference/
LOCATION:Bower House\, Bower House\, Orange Tree Hill\, Havering-atte-Bower\, Romford\, Essex\, RM4 1PB\, United Kingdom
CATEGORIES:Conference
END:VEVENT
BEGIN:VEVENT
DTSTART;TZID=Europe/London:20171013T183000
DTEND;TZID=Europe/London:20171013T210000
DTSTAMP:20260422T130025
CREATED:20171011T161511Z
LAST-MODIFIED:20171011T161511Z
UID:209-1507919400-1507928400@cambridge.christianstudents.org.uk
SUMMARY:Friday dinner and Bible study: Philippians 1
DESCRIPTION:
URL:https://cambridge.christianstudents.org.uk/event/friday-dinner-and-bible-study-philippians-1-2/
LOCATION:Robinson College\, Room J8\, Grange Road\, Cambridge\, CB3 9AN\, United Kingdom
CATEGORIES:Friday Bible Study
END:VEVENT
BEGIN:VEVENT
DTSTART;TZID=Europe/London:20171010T170000
DTEND;TZID=Europe/London:20171010T180000
DTSTAMP:20260422T130025
CREATED:20171002T235340Z
LAST-MODIFIED:20171003T000422Z
UID:191-1507654800-1507658400@cambridge.christianstudents.org.uk
SUMMARY:Tuesday Bible Study
DESCRIPTION:
URL:https://cambridge.christianstudents.org.uk/event/tuesday-bible-study-3/
LOCATION:ARU Coslett 107
CATEGORIES:Tuesday Bible Study
END:VEVENT
BEGIN:VEVENT
DTSTART;TZID=Europe/London:20171006T183000
DTEND;TZID=Europe/London:20171006T203000
DTSTAMP:20260422T130025
CREATED:20171002T235202Z
LAST-MODIFIED:20171002T235202Z
UID:189-1507314600-1507321800@cambridge.christianstudents.org.uk
SUMMARY:Friday dinner and Bible study: Philippians 1
DESCRIPTION:
URL:https://cambridge.christianstudents.org.uk/event/friday-dinner-and-bible-study-philippians-1/
LOCATION:Robinson College\, Room J8\, Grange Road\, Cambridge\, CB3 9AN\, United Kingdom
CATEGORIES:Cambridge Freshers Week,Friday Bible Study
END:VEVENT
BEGIN:VEVENT
DTSTART;TZID=Europe/London:20171004T183000
DTEND;TZID=Europe/London:20171004T203000
DTSTAMP:20260422T130025
CREATED:20171002T234457Z
LAST-MODIFIED:20171002T234533Z
UID:184-1507141800-1507149000@cambridge.christianstudents.org.uk
SUMMARY:Welcome Dinner & Bible Study - The Common Faith: Salvation and the Church
DESCRIPTION:We look forward to welcoming freshers and returning students for this Welcome dinner and Bible study. The subject of the Bible study is “The Common Faith: Salvation and the Church”.
URL:https://cambridge.christianstudents.org.uk/event/welcome-dinner-bible-study-the-common-faith-salvation-and-the-church/
LOCATION:Robinson College\, Room J8\, Grange Road\, Cambridge\, CB3 9AN\, United Kingdom
CATEGORIES:Cambridge Freshers Week
END:VEVENT
BEGIN:VEVENT
DTSTART;TZID=Europe/London:20171003T183000
DTEND;TZID=Europe/London:20171003T203000
DTSTAMP:20260422T130025
CREATED:20171002T234102Z
LAST-MODIFIED:20171002T234325Z
UID:180-1507055400-1507062600@cambridge.christianstudents.org.uk
SUMMARY:Welcome Dinner & Bible Study - The Common Faith: The Person and Work of Christ
DESCRIPTION:We look forward to welcoming freshers and returning students for this Welcome dinner and Bible study. The subject of the Bible study is “The Common Faith: The Person and Work of Christ”.
URL:https://cambridge.christianstudents.org.uk/event/welcome-dinner-bible-study-the-common-faith-the-person-and-work-of-christ/
LOCATION:Robinson College\, Room J8\, Grange Road\, Cambridge\, CB3 9AN\, United Kingdom
CATEGORIES:Cambridge Freshers Week
END:VEVENT
BEGIN:VEVENT
DTSTART;TZID=Europe/London:20171003T170000
DTEND;TZID=Europe/London:20171003T180000
DTSTAMP:20260422T130025
CREATED:20171002T214956Z
LAST-MODIFIED:20171003T000443Z
UID:167-1507050000-1507053600@cambridge.christianstudents.org.uk
SUMMARY:Tuesday Bible Study
DESCRIPTION:
URL:https://cambridge.christianstudents.org.uk/event/tuesday-bible-study-2/
LOCATION:ARU Coslett 107
CATEGORIES:Tuesday Bible Study
END:VEVENT
BEGIN:VEVENT
DTSTART;TZID=Europe/London:20170929T183000
DTEND;TZID=Europe/London:20170929T213000
DTSTAMP:20260422T130025
CREATED:20171002T235023Z
LAST-MODIFIED:20171002T235023Z
UID:186-1506709800-1506720600@cambridge.christianstudents.org.uk
SUMMARY:Friday dinner and Bible study in a nearby home
DESCRIPTION:
URL:https://cambridge.christianstudents.org.uk/event/friday-dinner-and-bible-study-in-a-nearby-home/
LOCATION:Nearby home\, Cambridge\, United Kingdom
CATEGORIES:Friday Bible Study
END:VEVENT
BEGIN:VEVENT
DTSTART;TZID=Europe/London:20170926T170000
DTEND;TZID=Europe/London:20170926T180000
DTSTAMP:20260422T130025
CREATED:20170925T013825Z
LAST-MODIFIED:20171003T000502Z
UID:161-1506445200-1506448800@cambridge.christianstudents.org.uk
SUMMARY:Tuesday Bible Study
DESCRIPTION:
URL:https://cambridge.christianstudents.org.uk/event/tuesday-bible-study/
LOCATION:ARU Coslett 107
CATEGORIES:Tuesday Bible Study
END:VEVENT
BEGIN:VEVENT
DTSTART;TZID=Europe/London:20170923T100000
DTEND;TZID=Europe/London:20170923T143000
DTSTAMP:20260422T130025
CREATED:20170918T130744Z
LAST-MODIFIED:20170918T131732Z
UID:125-1506160800-1506177000@cambridge.christianstudents.org.uk
SUMMARY:Day trip to Grantchester
DESCRIPTION:Join Cambridge Christian students for a nice walk to the Orchard Tea Gardens in Grantchester – a great time to get to know one another\, enjoy tea and scones\, and take part in fun activities! \nMeet outside the Fitzwilliam Museum and 10am and we will go from there. Bring a little money to buy food!
URL:https://cambridge.christianstudents.org.uk/event/day-trip-to-grantchester/
LOCATION:Fitzwilliam Museum
CATEGORIES:ARU Welcome Week
END:VEVENT
BEGIN:VEVENT
DTSTART;TZID=Europe/London:20170922T170000
DTEND;TZID=Europe/London:20170922T180000
DTSTAMP:20260422T130025
CREATED:20170918T124541Z
LAST-MODIFIED:20171002T234743Z
UID:123-1506099600-1506103200@cambridge.christianstudents.org.uk
SUMMARY:Freshers' Welcome Dinner: Our Salvation and the Church (Coslett 107)
DESCRIPTION:Join us every day at 5pm this week to meet the Bible Study Club and have a taste of what our Bible studies are like! \nOur regular Bible studies at ARU are on Tuesdays at 5pm.
URL:https://cambridge.christianstudents.org.uk/event/freshers-welcome-dinner-our-salvation-and-the-church/
CATEGORIES:ARU Welcome Week
END:VEVENT
BEGIN:VEVENT
DTSTART;TZID=Europe/London:20170921T170000
DTEND;TZID=Europe/London:20170921T180000
DTSTAMP:20260422T130025
CREATED:20170918T124448Z
LAST-MODIFIED:20171002T234752Z
UID:121-1506013200-1506016800@cambridge.christianstudents.org.uk
SUMMARY:Fellowship and dinner: The Excellent Work of Christ (Coslett 107)
DESCRIPTION:Join us every day at 5pm this week to meet the Bible Study Club and have a taste of what our Bible studies are like! \nOur regular Bible studies at ARU are on Tuesdays at 5pm.
URL:https://cambridge.christianstudents.org.uk/event/fellowship-and-dinner-the-excellent-work-of-christ-coslett-107/
CATEGORIES:ARU Welcome Week
END:VEVENT
BEGIN:VEVENT
DTSTART;TZID=Europe/London:20170920T170000
DTEND;TZID=Europe/London:20170920T180000
DTSTAMP:20260422T130025
CREATED:20170918T124336Z
LAST-MODIFIED:20171002T234800Z
UID:119-1505926800-1505930400@cambridge.christianstudents.org.uk
SUMMARY:Bible study and dinner: The Wonderful Person of Christ (Coslett 107)
DESCRIPTION:Join us every day at 5pm this week to meet the Bible Study Club and have a taste of what our Bible studies are like! \nOur regular Bible studies at ARU are on Tuesdays at 5pm.
URL:https://cambridge.christianstudents.org.uk/event/bible-study-and-dinner-the-wonderful-person-of-christ-coslett-107/
LOCATION:ARU Coslett 107
CATEGORIES:ARU Welcome Week
ATTACH;FMTTYPE=image/jpeg:https://cambridge.christianstudents.org.uk/wpc/wp-content/uploads/2017/09/Wednesday.jpeg
END:VEVENT
BEGIN:VEVENT
DTSTART;TZID=Europe/London:20170919T170000
DTEND;TZID=Europe/London:20170919T180000
DTSTAMP:20260422T130025
CREATED:20170918T124223Z
LAST-MODIFIED:20171002T234809Z
UID:117-1505840400-1505844000@cambridge.christianstudents.org.uk
SUMMARY:Bible study and dessert: Knowing the Triune God (Coslett 107)
DESCRIPTION:Join us every day at 5pm this week to meet the Bible Study Club and have a taste of what our Bible studies are like! \nOur regular Bible studies at ARU are on Tuesdays at 5pm.
URL:https://cambridge.christianstudents.org.uk/event/bible-study-and-dessert-knowing-the-triune-god-coslett-107/
LOCATION:ARU Coslett 107
CATEGORIES:ARU Welcome Week
ATTACH;FMTTYPE=image/jpeg:https://cambridge.christianstudents.org.uk/wpc/wp-content/uploads/2017/09/Tuesday.jpeg
END:VEVENT
BEGIN:VEVENT
DTSTART;TZID=Europe/London:20170918T170000
DTEND;TZID=Europe/London:20170918T180000
DTSTAMP:20260422T130025
CREATED:20170918T123608Z
LAST-MODIFIED:20171002T234817Z
UID:113-1505754000-1505757600@cambridge.christianstudents.org.uk
SUMMARY:Intro to the ARU Bible Study Club: The Bible - The God-breathed Word (Coslett 107)
DESCRIPTION:Join us every day at 5pm this week to meet the Bible Study Club and have a taste of what our Bible studies are like! \nThe topic for this evening is “The Bible – the God-breathed Word”. \nOur regular Bible studies at ARU are on Tuesdays at 5pm.
URL:https://cambridge.christianstudents.org.uk/event/intro-to-the-aru-bible-study-club-in-coslett-107/
LOCATION:ARU Coslett 107
CATEGORIES:ARU Welcome Week
ATTACH;FMTTYPE=image/jpeg:https://cambridge.christianstudents.org.uk/wpc/wp-content/uploads/2017/09/Bible-Reading-Challenge.jpeg
END:VEVENT
BEGIN:VEVENT
DTSTART;TZID=Europe/London:20170915T183000
DTEND;TZID=Europe/London:20170915T213000
DTSTAMP:20260422T130025
CREATED:20170915T164809Z
LAST-MODIFIED:20171002T234842Z
UID:97-1505500200-1505511000@cambridge.christianstudents.org.uk
SUMMARY:Friday dinner and Bible study in a nearby home
DESCRIPTION:
URL:https://cambridge.christianstudents.org.uk/event/friday-dinner-and-bible-study/
LOCATION:Nearby home\, Cambridge\, United Kingdom
CATEGORIES:Friday Bible Study
END:VEVENT
END:VCALENDAR